BEGIN:VCALENDAR
VERSION:2.0
PRODID:-//ChamberMaster//Event Calendar 2.0//EN
METHOD:PUBLISH
X-PUBLISHED-TTL:P3D
REFRESH-INTERVAL:P3D
CALSCALE:GREGORIAN
BEGIN:VEVENT
DTSTART:20140503T100000Z
DTEND:20140503T150000Z
X-MICROSOFT-CDO-ALLDAYEVENT:FALSE
SUMMARY:Union General Health Fair
DESCRIPTION:Union General Health Fair\n\nSaturday\, May 3\, 2014 6am - 11am\n\nThe Following Services will be available:\n\nLab Work\n\nVital Signs\n\nPulse Oximetry\n\nBone Density Screening\n\nHearing Screening\n\nSkin Irregularity Screening\n\nWomen's Health Information\n\n\n\nErlanger Health System Dare To Care Event!\n\nScreenings 7am - 11am Only Free!\n\nCholesterol & Glucose\n\nAortic Aneurism\, Carotid Artery Stenosis\, Renal Artery Stenosis & ABI\n\nNote: Limited availability to the first 50-60 people. A self-addressed envelope for yourself & your doctor is required for results to be mailed.\n\n\n\nBlairsville Police Department -  Child Finger Printing\n\nUC Sheriff Department - Collecting Outdated & Old Medications\n\nFire Department - Tours/Info of Fire Truck & Duties\n\nLife Force Emergency Airlift\n\n\n\nMay Vendors Offering Services\, Products\, & Information
X-ALT-DESC;FMTTYPE=text/html:Union General Health Fair<br />\nSaturday\, May 3\, 2014 6am - 11am<br />\nThe Following Services will be available:<br />\nLab Work<br />\nVital Signs<br />\nPulse Oximetry<br />\nBone Density Screening<br />\nHearing Screening<br />\nSkin Irregularity Screening<br />\nWomen&#39\;s Health Information<br />\n<br />\nErlanger Health System Dare To Care Event!<br />\nScreenings&nbsp\;7am -&nbsp\;11am&nbsp\;Only<strong> Free!</strong><br />\nCholesterol &amp\; Glucose<br />\nAortic Aneurism\, Carotid Artery Stenosis\, Renal Artery Stenosis &amp\; ABI<br />\n<strong>Note: Limited availability to the first 50-60 people. A self-addressed envelope for yourself &amp\; your doctor is required for results to be mailed.<br />\n<br />\nBlairsville Police Department -&nbsp\; Child Finger Printing<br />\nUC Sheriff Department - Collecting Outdated &amp\; Old Medications<br />\nFire Department - Tours/Info of Fire Truck &amp\; Duties<br />\nLife Force Emergency Airlift<br />\n<br />\nMay Vendors Offering Services\, Products\, &amp\; Information </strong>
LOCATION:Union General Hospital 35 Hospital Road Blairsville\, GA
UID:e.256.23441
SEQUENCE:3
DTSTAMP:20260424T122300Z
URL:https://members.visitblairsvillega.com/events/details/union-general-health-fair-05-03-2014-23441
END:VEVENT

END:VCALENDAR
