BEGIN:VCALENDAR
VERSION:2.0
PRODID:-//ChamberMaster//Event Calendar 2.0//EN
METHOD:PUBLISH
X-PUBLISHED-TTL:P3D
REFRESH-INTERVAL:P3D
CALSCALE:GREGORIAN
BEGIN:VEVENT
DTSTART:20161107T150000Z
DTEND:20161107T170000Z
X-MICROSOFT-CDO-ALLDAYEVENT:FALSE
SUMMARY:Union General Hospital hosts Look Good Feel Better- Helping Women with Cancer
DESCRIPTION:During cancer treatment\, Look Good Feel Better volunteer beauty professionals help you with:\n\n \n\n- Skin care and makeup application \n\n- Tips on wig selection and wig care\n\n- Dry skin\, discolored nails\n\n- Scarves\, turbans and hats\n\n- Style tips\n\n\n\n*Call 1-800-227-2345 to reserve your spot today.
X-ALT-DESC;FMTTYPE=text/html:During cancer treatment\, Look Good Feel Better volunteer beauty professionals help you with:<br />\n&nbsp\;<br />\n- Skin care and makeup application&nbsp\;<br />\n- Tips on wig selection and wig care<br />\n- Dry skin\, discolored nails<br />\n- Scarves\, turbans and hats<br />\n- Style tips<br />\n<br />\n*Call 1-800-227-2345 to reserve your spot today.&nbsp\;
LOCATION:Union General Hospital 35 Hospital Road Blairsville\, GA 30512
UID:e.256.59653
SEQUENCE:3
DTSTAMP:20260420T131459Z
URL:https://members.visitblairsvillega.com/events/details/union-general-hospital-hosts-look-good-feel-better-helping-women-with-cancer-59653
END:VEVENT

END:VCALENDAR
