BEGIN:VCALENDAR
VERSION:2.0
PRODID:-//ChamberMaster//Event Calendar 2.0//EN
METHOD:PUBLISH
X-PUBLISHED-TTL:P3D
REFRESH-INTERVAL:P3D
CALSCALE:GREGORIAN
BEGIN:VEVENT
DTSTART:20170422T100000Z
DTEND:20170422T140000Z
X-MICROSOFT-CDO-ALLDAYEVENT:FALSE
SUMMARY:Union General Hospital's Annual Health Fair
DESCRIPTION:Join us for our annual Health Fair on Saturday\, April 22nd from 6-10am.\n\nYou will have access to heavily discounted lab work and a wide variety of free medical services and exams.
X-ALT-DESC;FMTTYPE=text/html:Join us for our annual Health Fair on Saturday\, April 22nd from 6-10am.<br />\nYou will have access to heavily discounted lab work and a wide variety of free medical services and exams.
LOCATION:Located at Union General Hospital\, 35 Hospital Road\, Blairsville\, Georgia.
UID:e.256.71412
SEQUENCE:3
DTSTAMP:20260420T024520Z
URL:https://members.visitblairsvillega.com/events/details/union-general-hospital-s-annual-health-fair-71412
END:VEVENT

END:VCALENDAR
