BEGIN:VCALENDAR
VERSION:2.0
PRODID:-//ChamberMaster//Event Calendar 2.0//EN
METHOD:PUBLISH
X-PUBLISHED-TTL:P3D
REFRESH-INTERVAL:P3D
CALSCALE:GREGORIAN
BEGIN:VEVENT
DTSTART:20161110T220000Z
DTEND:20161111T000000Z
X-MICROSOFT-CDO-ALLDAYEVENT:FALSE
SUMMARY:Union General Hospital's Dine with an Alzheimer's educator
DESCRIPTION:Join us on Thursday\, November 10th at 5:00 p.m. for an informative overview on Alzheimer's Disease in recognition of Alzheimer's awareness month. Enjoy a complimentary dinner while listening to experienced Alzheimer's Association educator\, Susan Greene\, RN\, MSN. The event is located in our 2nd Floor Classroom A and has limited availability. Call 706-745-2050 to reserve your spot today!
X-ALT-DESC;FMTTYPE=text/html:Join us on Thursday\, November 10th at 5:00 p.m. for an informative overview on Alzheimer&#39\;s Disease in recognition of Alzheimer&#39\;s awareness month. Enjoy a complimentary dinner while listening to experienced Alzheimer&#39\;s Association educator\, Susan Greene\, RN\, MSN. The event is located in our 2nd Floor Classroom A and has limited availability. Call 706-745-2050 to reserve your spot today!
LOCATION:Union General Hospital 35 Hospital Road Blairsville\, GA 30512
UID:e.256.59477
SEQUENCE:3
DTSTAMP:20260420T113601Z
URL:https://members.visitblairsvillega.com/events/details/union-general-hospital-s-dine-with-an-alzheimer-s-educator-59477
END:VEVENT

END:VCALENDAR
