BEGIN:VCALENDAR
VERSION:2.0
PRODID:-//ChamberMaster//Event Calendar 2.0//EN
METHOD:PUBLISH
X-PUBLISHED-TTL:P3D
REFRESH-INTERVAL:P3D
CALSCALE:GREGORIAN
BEGIN:VEVENT
DTSTART:20161013T210000Z
DTEND:20161013T230000Z
X-MICROSOFT-CDO-ALLDAYEVENT:FALSE
SUMMARY:Union General Hospital's Dine with a Doctor "Breast Health" Event
DESCRIPTION:Join us for an informative overview about breast health in recognition of breast cancer awareness month. Enjoy a complimentary dinner while listening to two experienced doctors\, General Surgeon\, Steven Efird\, MD and Plastic Surgeon\, Edwin C. Pound III\, MD as well as American Cancer Society representative\, Brooke VanBuskirk. \n\n\n\nThere is limited space available - so reserve your seat today by calling (706) 745-2050!
X-ALT-DESC;FMTTYPE=text/html:Join us for an informative overview about breast health in recognition of breast cancer&nbsp\;awareness month. Enjoy a complimentary dinner while listening to two experienced&nbsp\;doctors\, General Surgeon\, Steven Efird\, MD and Plastic Surgeon\, Edwin C. Pound III\, MD as well as American Cancer Society representative\, Brooke VanBuskirk.&nbsp\;<br />\n<br />\nThere is limited space available - so reserve your seat today by calling (706) 745-2050!<br />\n<br />\n&nbsp\;
LOCATION:Union General Hospital 35 Hospital Road Blairsville\, GA 30512 2nd Floor Classroom A
UID:e.256.59292
SEQUENCE:3
DTSTAMP:20260420T145339Z
URL:https://members.visitblairsvillega.com/events/details/union-general-hospitaldine-with-a-doctor-breast-health-event-59292
END:VEVENT

END:VCALENDAR
