BEGIN:VCALENDAR
VERSION:2.0
PRODID:-//ChamberMaster//Event Calendar 2.0//EN
METHOD:PUBLISH
X-PUBLISHED-TTL:P3D
REFRESH-INTERVAL:P3D
CALSCALE:GREGORIAN
BEGIN:VEVENT
DTSTART:20150120T163000Z
DTEND:20150120T180000Z
X-MICROSOFT-CDO-ALLDAYEVENT:FALSE
SUMMARY:Union/Towns Employer Committee
DESCRIPTION:January Meeting - Kickoff and networking opportunity\n\n\n\nThe Union Towns Employer Committee is a group of local business representatives who establish and maintain a working relationship between the Georgia Department of Labor and the employer community.
X-ALT-DESC;FMTTYPE=text/html:January Meeting - Kickoff and networking opportunity<br />\n<br />\nThe Union Towns Employer Committee is a group of local business representatives who establish and maintain a working relationship between the Georgia Department of Labor and the employer community.
LOCATION:Cadence Bank Community Room 2nd Floor
UID:e.256.22271
SEQUENCE:3
DTSTAMP:20260424T020436Z
URL:https://members.visitblairsvillega.com/events/details/union-towns-employer-committee-01-20-2015-22271
END:VEVENT

END:VCALENDAR
