BEGIN:VCALENDAR
VERSION:2.0
PRODID:-//ChamberMaster//Event Calendar 2.0//EN
METHOD:PUBLISH
X-PUBLISHED-TTL:P3D
REFRESH-INTERVAL:P3D
CALSCALE:GREGORIAN
BEGIN:VEVENT
DTSTART:20140429T153000Z
DTEND:20140429T170000Z
X-MICROSOFT-CDO-ALLDAYEVENT:FALSE
SUMMARY:Union/Towns Employer Committee
DESCRIPTION:April Meeting - Healthcare seminar wit Stephen Allison\n\n\n\nThe Union Towns Employer Committee is a group of local business representatives who establish and maintain a working relationship between the Georgia Department of Labor and the employer community.
X-ALT-DESC;FMTTYPE=text/html:April&nbsp\;Meeting - Healthcare seminar wit Stephen Allison<br />\n<br />\nThe Union Towns Employer Committee is a group of local business representatives who establish and maintain a working relationship between the Georgia Department of Labor and the employer community.
LOCATION:Union County Community Center
UID:e.256.22262
SEQUENCE:3
DTSTAMP:20260424T133756Z
URL:https://members.visitblairsvillega.com/events/details/union-towns-employer-committee-04-29-2014-22262
END:VEVENT

END:VCALENDAR
