BEGIN:VCALENDAR
VERSION:2.0
PRODID:-//ChamberMaster//Event Calendar 2.0//EN
METHOD:PUBLISH
X-PUBLISHED-TTL:P3D
REFRESH-INTERVAL:P3D
CALSCALE:GREGORIAN
BEGIN:VEVENT
DTSTART:20140617T153000Z
DTEND:20140617T170000Z
X-MICROSOFT-CDO-ALLDAYEVENT:FALSE
SUMMARY:Union/Towns Employer Committee
DESCRIPTION:June Meeting - The Effects of Social Media and Background Hiring Practices\n\n\n\nThe Union Towns Employer Committee is a group of local business representatives who establish and maintain a working relationship between the Georgia Department of Labor and the employer community.
X-ALT-DESC;FMTTYPE=text/html:June&nbsp\;Meeting - The Effects of Social Media and Background Hiring Practices<br />\n<br />\nThe Union Towns Employer Committee is a group of local business representatives who establish and maintain a working relationship between the Georgia Department of Labor and the employer community.
LOCATION:UCB Small Community Room
UID:e.256.22264
SEQUENCE:3
DTSTAMP:20260424T105358Z
URL:https://members.visitblairsvillega.com/events/details/union-towns-employer-committee-06-17-2014-22264
END:VEVENT

END:VCALENDAR
