BEGIN:VCALENDAR
VERSION:2.0
PRODID:-//ChamberMaster//Event Calendar 2.0//EN
METHOD:PUBLISH
X-PUBLISHED-TTL:P3D
REFRESH-INTERVAL:P3D
CALSCALE:GREGORIAN
BEGIN:VEVENT
DTSTART:20140715T153000Z
DTEND:20140715T170000Z
X-MICROSOFT-CDO-ALLDAYEVENT:FALSE
SUMMARY:Union/Towns Employer Committee
DESCRIPTION:No July Meeting\n\n\n\nThe Union Towns Employer Committee is a group of local business representatives who establish and maintain a working relationship between the Georgia Department of Labor and the employer community.
X-ALT-DESC;FMTTYPE=text/html:No July Meeting<br />\n<br />\nThe Union Towns Employer Committee is a group of local business representatives who establish and maintain a working relationship between the Georgia Department of Labor and the employer community.
LOCATION:UCB Small Community Room
UID:e.256.22265
SEQUENCE:3
DTSTAMP:20260424T092223Z
URL:https://members.visitblairsvillega.com/events/details/union-towns-employer-committee-07-15-2014-22265
END:VEVENT

END:VCALENDAR
