BEGIN:VCALENDAR
VERSION:2.0
PRODID:-//ChamberMaster//Event Calendar 2.0//EN
METHOD:PUBLISH
X-PUBLISHED-TTL:P3D
REFRESH-INTERVAL:P3D
CALSCALE:GREGORIAN
BEGIN:VEVENT
DTSTART:20140819T153000Z
DTEND:20140819T170000Z
X-MICROSOFT-CDO-ALLDAYEVENT:FALSE
SUMMARY:Union/Towns Employer Committee
DESCRIPTION:August Meeting - Employee Handbook Information\n\n\n\nThe Union Towns Employer Committee is a group of local business representatives who establish and maintain a working relationship between the Georgia Department of Labor and the employer community.
X-ALT-DESC;FMTTYPE=text/html:August&nbsp\;Meeting - Employee Handbook Information<br />\n<br />\nThe Union Towns Employer Committee is a group of local business representatives who establish and maintain a working relationship between the Georgia Department of Labor and the employer community.
LOCATION:UCB Small Community Room
UID:e.256.22266
SEQUENCE:3
DTSTAMP:20260424T073930Z
URL:https://members.visitblairsvillega.com/events/details/union-towns-employer-committee-08-19-2014-22266
END:VEVENT

END:VCALENDAR
