BEGIN:VCALENDAR
VERSION:2.0
PRODID:-//ChamberMaster//Event Calendar 2.0//EN
METHOD:PUBLISH
X-PUBLISHED-TTL:P3D
REFRESH-INTERVAL:P3D
CALSCALE:GREGORIAN
BEGIN:VEVENT
DTSTART:20141021T153000Z
DTEND:20141021T170000Z
X-MICROSOFT-CDO-ALLDAYEVENT:FALSE
SUMMARY:Union/Towns Employer Committee
DESCRIPTION:October Meeting - I-9 Requirements and E-Verify\n\n\n\nThe Union Towns Employer Committee is a group of local business representatives who establish and maintain a working relationship between the Georgia Department of Labor and the employer community.
X-ALT-DESC;FMTTYPE=text/html:October&nbsp\;Meeting - I-9 Requirements and E-Verify<br />\n<br />\nThe Union Towns Employer Committee is a group of local business representatives who establish and maintain a working relationship between the Georgia Department of Labor and the employer community.
LOCATION:UCB Small Community Room
UID:e.256.22268
SEQUENCE:3
DTSTAMP:20260424T045445Z
URL:https://members.visitblairsvillega.com/events/details/union-towns-employer-committee-10-21-2014-22268
END:VEVENT

END:VCALENDAR
