BEGIN:VCALENDAR
VERSION:2.0
PRODID:-//ChamberMaster//Event Calendar 2.0//EN
METHOD:PUBLISH
X-PUBLISHED-TTL:P3D
REFRESH-INTERVAL:P3D
CALSCALE:GREGORIAN
BEGIN:VEVENT
DTSTART:20141118T163000Z
DTEND:20141118T180000Z
X-MICROSOFT-CDO-ALLDAYEVENT:FALSE
SUMMARY:Union/Towns Employer Committee
DESCRIPTION:November Meeting - Young Harris College\n\n\n\nThe Union Towns Employer Committee is a group of local business representatives who establish and maintain a working relationship between the Georgia Department of Labor and the employer community.
X-ALT-DESC;FMTTYPE=text/html:November&nbsp\;Meeting - Young Harris College<br />\n<br />\nThe Union Towns Employer Committee is a group of local business representatives who establish and maintain a working relationship between the Georgia Department of Labor and the employer community.
LOCATION:Young Harris College Dining Hall
UID:e.256.22269
SEQUENCE:3
DTSTAMP:20260424T034026Z
URL:https://members.visitblairsvillega.com/events/details/union-towns-employer-committee-11-18-2014-22269
END:VEVENT

END:VCALENDAR
