BEGIN:VCALENDAR
VERSION:2.0
PRODID:-//ChamberMaster//Event Calendar 2.0//EN
METHOD:PUBLISH
X-PUBLISHED-TTL:P3D
REFRESH-INTERVAL:P3D
CALSCALE:GREGORIAN
BEGIN:VEVENT
DTSTART:20141216T163000Z
DTEND:20141216T180000Z
X-MICROSOFT-CDO-ALLDAYEVENT:FALSE
SUMMARY:Union/Towns Employer Committee
DESCRIPTION:December Meeting - Charity Luncheon\n\n\n\nThe Union Towns Employer Committee is a group of local business representatives who establish and maintain a working relationship between the Georgia Department of Labor and the employer community.
X-ALT-DESC;FMTTYPE=text/html:December&nbsp\;Meeting - Charity Luncheon<br />\n<br />\nThe Union Towns Employer Committee is a group of local business representatives who establish and maintain a working relationship between the Georgia Department of Labor and the employer community.
LOCATION:UCB Small Community Room
UID:e.256.22270
SEQUENCE:3
DTSTAMP:20260424T034027Z
URL:https://members.visitblairsvillega.com/events/details/union-towns-employer-committee-12-16-2014-22270
END:VEVENT

END:VCALENDAR
