BEGIN:VCALENDAR
VERSION:2.0
PRODID:-//ChamberMaster//Event Calendar 2.0//EN
METHOD:PUBLISH
X-PUBLISHED-TTL:P3D
REFRESH-INTERVAL:P3D
CALSCALE:GREGORIAN
BEGIN:VEVENT
DTSTART:20151215T163000Z
DTEND:20151215T180000Z
X-MICROSOFT-CDO-ALLDAYEVENT:FALSE
SUMMARY:Union/Towns Employer Committee Lunch Meeting
DESCRIPTION:The Union Towns Employer Committee is a group of local business representatives who establish and maintain a working relationship between the Georgia Department of Labor and the employer community.\n\nMeetings are held the third Tuesday of every month except July. Networking starts at 11:30 and the program starts at noon.  The cost of most seminars is $ 12.00 and lunch is included.  If you can't make the networking - please come for the program.
X-ALT-DESC;FMTTYPE=text/html:The Union Towns Employer Committee is a group of local business representatives who establish and maintain a working relationship between the Georgia Department of Labor and the employer community.<br />\n<span style="font-family:arial\,sans-serif\;"><span style="font-size:10.0pt\;">Meetings are held the third Tuesday of every month except July. Networking starts at 11:30 and the program starts at noon. &nbsp\;The cost of most seminars is $ 12.00 and lunch is included. &nbsp\;If you can&#39\;t make the networking - please come for the program.</span></span><br />\n&nbsp\;
LOCATION:United Community Bank Small Community Room
UID:e.256.37708
SEQUENCE:3
DTSTAMP:20260421T074635Z
URL:https://members.visitblairsvillega.com/events/details/union-towns-employer-committee-lunch-meeting-12-15-2015-37708
END:VEVENT

END:VCALENDAR
