BEGIN:VCALENDAR
VERSION:2.0
PRODID:-//ChamberMaster//Event Calendar 2.0//EN
METHOD:PUBLISH
X-PUBLISHED-TTL:P3D
REFRESH-INTERVAL:P3D
CALSCALE:GREGORIAN
BEGIN:VEVENT
DTSTART:20160308T163000Z
DTEND:20160308T180000Z
X-MICROSOFT-CDO-ALLDAYEVENT:FALSE
SUMMARY:Union/Towns Employer Committee Meeting
DESCRIPTION:The Union Towns Employer Committee is a group of local business representatives who establish and maintain a working relationship between the Georgia Department of Labor and the employer community.\n\nRemember to bring plenty of business cards and information from your company for the networking portion of the program.\n\nOur meetings\, in addition to providing continuing education on topics of interest to attendees\, support a local scholarship program for local high school and college students.
X-ALT-DESC;FMTTYPE=text/html:The Union Towns Employer Committee is a group of local business representatives who establish and maintain a working relationship between the Georgia Department of Labor and the employer community.<br />\n<span style="color: black\;"><span style="font-family: arial\,sans-serif\;">Remember to bring plenty of business cards and information from your company for the networking portion of the program.</span></span><br />\n<span style="color: black\;"><span style="font-family: arial\,sans-serif\;">Our meetings\, in addition to providing continuing education on topics of interest to attendees\, support a local scholarship program for local high school and college students.</span></span><br />\n<br />\n&nbsp\;
LOCATION:Southern Bank and Trust 361 Blue Ridge Street Blairsville\, GA Second floor to the conference room.
UID:e.256.49825
SEQUENCE:3
DTSTAMP:20260421T022550Z
URL:https://members.visitblairsvillega.com/events/details/union-towns-employer-committee-meeting-03-08-2016-49825
END:VEVENT

END:VCALENDAR
