BEGIN:VCALENDAR
VERSION:2.0
PRODID:-//ChamberMaster//Event Calendar 2.0//EN
METHOD:PUBLISH
X-PUBLISHED-TTL:P3D
REFRESH-INTERVAL:P3D
CALSCALE:GREGORIAN
BEGIN:VEVENT
DTSTART:20160412T153000Z
DTEND:20160412T170000Z
X-MICROSOFT-CDO-ALLDAYEVENT:FALSE
SUMMARY:Union/Towns Employer Committee Meeting
DESCRIPTION:The Union Towns Employer Committee is a group of local business representatives who establish and maintain a working relationship between the Georgia Department of Labor and the employer community.\n\nWe are meeting bi-monthly this year\, moving from the third Tuesday to the second Tuesday of the month.  Please see the schedule of events below for meeting dates and topics. Remember to bring plenty of business cards and information from your company for the networking portion of the program.\n\nOur meetings\, in addition to providing continuing education on topics of interest to attendees\, support a local scholarship program for local high school and college students.
X-ALT-DESC;FMTTYPE=text/html:The Union Towns Employer Committee is a group of local business representatives who establish and maintain a working relationship between the Georgia Department of Labor and the employer community.<br />\n<span style="color: black\;"><span style="font-family: arial\,sans-serif\;">We are meeting bi-monthly this year\, moving from the third Tuesday to the second Tuesday of the month.&nbsp\; Please see the schedule of events below for meeting dates and topics. Remember to bring plenty of business cards and information from your company for the networking portion of the program.</span></span><br />\n<span style="color: black\;"><span style="font-family: arial\,sans-serif\;">Our meetings\, in addition to providing continuing education on topics of interest to attendees\, support a local scholarship program for local high school and college students.</span></span><br />\n<br />\n&nbsp\;
LOCATION:Southern Bank and Trust 361 Blue Ridge Street Blairsville\, GA Second floor to the conference room.
UID:e.256.48249
SEQUENCE:3
DTSTAMP:20260421T022526Z
URL:https://members.visitblairsvillega.com/events/details/union-towns-employer-committee-meeting-04-12-2016-48249
END:VEVENT

END:VCALENDAR
