BEGIN:VCALENDAR
VERSION:2.0
PRODID:-//ChamberMaster//Event Calendar 2.0//EN
METHOD:PUBLISH
X-PUBLISHED-TTL:P3D
REFRESH-INTERVAL:P3D
CALSCALE:GREGORIAN
BEGIN:VEVENT
DTSTART:20140502T130000Z
DTEND:20140822T210000Z
X-MICROSOFT-CDO-ALLDAYEVENT:FALSE
SUMMARY:United Community Bank Biggest Tomato Contest
DESCRIPTION:Bring in your heaviest homegrown tomato  - The winner of the biggest tomato will win $100
X-ALT-DESC;FMTTYPE=text/html:Bring in your heaviest homegrown tomato&nbsp\; - The winner of the biggest tomato will win $100
LOCATION:United Community Bank\, Main Office Marketing Department 177 Highway 515 East Blairsville\, GA 30512
UID:e.256.22049
SEQUENCE:3
DTSTAMP:20260424T074153Z
URL:https://members.visitblairsvillega.com/events/details/united-community-bank-biggest-tomato-contest-05-02-2014-22049
END:VEVENT

END:VCALENDAR
