BEGIN:VCALENDAR
VERSION:2.0
PRODID:-//ChamberMaster//Event Calendar 2.0//EN
METHOD:PUBLISH
X-PUBLISHED-TTL:P3D
REFRESH-INTERVAL:P3D
CALSCALE:GREGORIAN
BEGIN:VEVENT
DTSTART:20141126T190000Z
DTEND:20141126T210000Z
X-MICROSOFT-CDO-ALLDAYEVENT:FALSE
SUMMARY:United Community Bank Serves Pumpkin Bread
DESCRIPTION:Thanksgiving Customer Appreciation Treat
X-ALT-DESC;FMTTYPE=text/html:Thanksgiving Customer Appreciation Treat<br />\n&nbsp\;
LOCATION:United Community Bank - Main Office Foyer 177 Highway 515 East Blairsville\, GA 30512
UID:e.256.22052
SEQUENCE:3
DTSTAMP:20260424T033831Z
URL:https://members.visitblairsvillega.com/events/details/united-community-bank-serves-pumpkin-bread-11-26-2014-22052
END:VEVENT

END:VCALENDAR
