BEGIN:VCALENDAR
VERSION:2.0
PRODID:-//ChamberMaster//Event Calendar 2.0//EN
METHOD:PUBLISH
X-PUBLISHED-TTL:P3D
REFRESH-INTERVAL:P3D
CALSCALE:GREGORIAN
BEGIN:VEVENT
DTSTART:20160423T120000Z
DTEND:20160423T160000Z
X-MICROSOFT-CDO-ALLDAYEVENT:FALSE
SUMMARY:United Community Bank Yard Sale
DESCRIPTION:Get motivated  Get busy  Clean out those closets\, get rid of the clutter!!\n\nUnited Community Bank is sponsoring a yard sale to benefit our Relay for Life team. Employees and non-employees are invited to participate. A donation of $20 to the American Cancer Society Relay for Life will secure your space at the yard sale. The $ you make at your site is 100% yours\, so call and reserve your space today!!
X-ALT-DESC;FMTTYPE=text/html:<br />\n<span style="font-size: 12pt\;"><span style="font-family: verdana\,sans-serif\;"><span style="color: black\;">Get motivated&hellip\; Get busy&hellip\; Clean out those closets\, get rid of the clutter</span></span></span><span style="font-size: 12pt\;"><span style="font-family: verdana\,sans-serif\;">!!</span></span><br />\n<span style="font-size: 12pt\;"><span style="font-family: verdana\,sans-serif\;"><span style="color: black\;">United Community Bank is sponsoring a yard sale to benefit our </span></span></span><strong><span style="font-size: 12pt\;"><span style="font-family: verdana\,sans-serif\;"><span style="color: rgb(96\, 74\, 123)\;">Relay for Life</span></span></span></strong> <span style="font-size: 12pt\;"><span style="font-family: verdana\,sans-serif\;"><span style="color: black\;">team. </span></span></span><span style="font-size: 12pt\;"><span style="font-family: verdana\,sans-serif\;">Employees and non-employees are invited to participate. A donation of $20 to the <strong>American Cancer Society Relay for Life</strong> will secure your space at the yard<span style="color: black\;"> sale. The $ you make at your site is 100% yours</span>\, so call and reserve your space today!!&nbsp\;&nbsp\;</span></span><br />\n&nbsp\;
LOCATION:At the Corporate Building Back Parking Lot (adjacent to the Blairsville Main Bank).
UID:e.256.50536
SEQUENCE:3
DTSTAMP:20260421T022509Z
URL:https://members.visitblairsvillega.com/events/details/united-community-bank-yard-sale-04-23-2016-50536
END:VEVENT

END:VCALENDAR
