BEGIN:VCALENDAR
VERSION:2.0
PRODID:-//ChamberMaster//Event Calendar 2.0//EN
METHOD:PUBLISH
X-PUBLISHED-TTL:P3D
REFRESH-INTERVAL:P3D
CALSCALE:GREGORIAN
BEGIN:VEVENT
DTSTART:20160704T143000Z
DTEND:20160704T160000Z
X-MICROSOFT-CDO-ALLDAYEVENT:FALSE
SUMMARY:Unity Tree & Wing Wrap
DESCRIPTION:St. Teresa reminds us "if we have not peace\, it is because we have forgotten we belong to one another\," This "tree wrap" is a creative statement in support of freedom from fear and hate. We invite all to share a morning of energy\, inclusion\, and creativity. Your personal banner will fly on the wings of prayer in our beautiful roadside tree. " Peace like a river" can travel the world\, but it begins in the heart\, in the family\, in the community\, right here\, right now!
X-ALT-DESC;FMTTYPE=text/html:St. Teresa reminds us &quot\;if we have not peace\, it is because we have forgotten we belong to one another\,&quot\; This &quot\;tree wrap&quot\; is a creative statement in support of freedom from fear and hate. We invite all to share a morning of energy\, inclusion\, and creativity. Your personal banner will fly on the wings of prayer in our beautiful roadside tree. &quot\; Peace like a river&quot\; can travel the world\, but it begins in the heart\, in the family\, in the community\, right here\, right now!
LOCATION:Unity Church of the Mountains 2309 Murphy Hwy Blairsville\, GA
UID:e.256.53280
SEQUENCE:3
DTSTAMP:20260420T182129Z
URL:https://members.visitblairsvillega.com/events/details/unity-tree-wing-wrap-07-04-2016-53280
END:VEVENT

END:VCALENDAR
