BEGIN:VCALENDAR
VERSION:2.0
PRODID:-//ChamberMaster//Event Calendar 2.0//EN
METHOD:PUBLISH
X-PUBLISHED-TTL:P3D
REFRESH-INTERVAL:P3D
CALSCALE:GREGORIAN
BEGIN:VEVENT
DTSTART:20161203T190000Z
DTEND:20161203T210000Z
X-MICROSOFT-CDO-ALLDAYEVENT:FALSE
SUMMARY:University of North Georgia Choral Holiday Performance
DESCRIPTION:Enjoy the beautiful sounds of the North Georgia Choral Group as they present a beautiful holiday performance inside the Art Center!
X-ALT-DESC;FMTTYPE=text/html:Enjoy the beautiful sounds of the North Georgia Choral Group as they present a beautiful holiday performance inside the Art Center!
LOCATION:The Art Center 420 West Main Street Blue Ridge\, GA 30513
UID:e.256.59463
SEQUENCE:3
DTSTAMP:20260420T094727Z
URL:https://members.visitblairsvillega.com/events/details/university-of-north-georgia-choral-holiday-performance-59463
END:VEVENT

END:VCALENDAR
