BEGIN:VCALENDAR
VERSION:2.0
PRODID:-//ChamberMaster//Event Calendar 2.0//EN
METHOD:PUBLISH
X-PUBLISHED-TTL:P3D
REFRESH-INTERVAL:P3D
CALSCALE:GREGORIAN
BEGIN:VEVENT
DTSTART:20160317T171500Z
DTEND:20160317T183000Z
X-MICROSOFT-CDO-ALLDAYEVENT:FALSE
SUMMARY:V V A Monthly Meeting
DESCRIPTION:The Vietnam Veterans of America meet on the 3rd Thursday of every month at 1:15 pm in the Veterans Center.
X-ALT-DESC;FMTTYPE=text/html:The&nbsp\;Vietnam Veterans of America meet on the&nbsp\;3rd Thursday of every month at 1:15 pm in the Veterans Center.
LOCATION:Veterans Building 78 Old Blue Ridge Hwy Blairsville
UID:e.256.48301
SEQUENCE:3
DTSTAMP:20260421T022023Z
URL:https://members.visitblairsvillega.com/events/details/v-v-a-monthly-meeting-03-17-2016-48301
END:VEVENT

END:VCALENDAR
