BEGIN:VCALENDAR
VERSION:2.0
PRODID:-//ChamberMaster//Event Calendar 2.0//EN
METHOD:PUBLISH
X-PUBLISHED-TTL:P3D
REFRESH-INTERVAL:P3D
CALSCALE:GREGORIAN
BEGIN:VEVENT
DTSTART:20160616T171500Z
DTEND:20160616T183000Z
X-MICROSOFT-CDO-ALLDAYEVENT:FALSE
SUMMARY:V V A Monthly Meeting
DESCRIPTION:The Vietnam Veterans of America meet on the 3rd Thursday of every month at 1:15 pm in the Veterans Center.
X-ALT-DESC;FMTTYPE=text/html:The&nbsp\;Vietnam Veterans of America meet on the&nbsp\;3rd Thursday of every month at 1:15 pm in the Veterans Center.
LOCATION:Veterans Building 78 Old Blue Ridge Hwy Blairsville
UID:e.256.48304
SEQUENCE:3
DTSTAMP:20260420T203825Z
URL:https://members.visitblairsvillega.com/events/details/v-v-a-monthly-meeting-06-16-2016-48304
END:VEVENT

END:VCALENDAR
