BEGIN:VCALENDAR
VERSION:2.0
PRODID:-//ChamberMaster//Event Calendar 2.0//EN
METHOD:PUBLISH
X-PUBLISHED-TTL:P3D
REFRESH-INTERVAL:P3D
CALSCALE:GREGORIAN
BEGIN:VEVENT
DTSTART:20170607T213000Z
DTEND:20170608T000000Z
X-MICROSOFT-CDO-ALLDAYEVENT:FALSE
SUMMARY:Vacation Bible School! Maker Fun Factory
DESCRIPTION:Children will learn memorable Bible-learning activities\, sing catchy songs\, play teamwork-building games\, experience one-of-a-kind Bible adventures\, collect Bible Memory Buddies to remind them of God?s love\, and test out Sciency-Fun Gizmos they?ll take home and play with all summer long. Come early at 5pm and enjoy family dinner. No fee or reservation required.
X-ALT-DESC;FMTTYPE=text/html:Children will learn memorable Bible-learning activities\, sing catchy songs\, play teamwork-building games\, experience one-of-a-kind Bible adventures\, collect Bible Memory Buddies to remind them of God?s love\, and test out Sciency-Fun Gizmos they?ll take home and play with all summer long. Come early at 5pm and enjoy family dinner. No fee or reservation required.
LOCATION:First United Methodist Church of Union County is located on HWY 515 across from Meeks Park in Blairsville\, GA.
UID:e.256.73785
SEQUENCE:3
DTSTAMP:20260419T232922Z
URL:https://members.visitblairsvillega.com/events/details/vacation-bible-school-maker-fun-factory-06-07-2017-73785
END:VEVENT

END:VCALENDAR
