BEGIN:VCALENDAR
VERSION:2.0
PRODID:-//ChamberMaster//Event Calendar 2.0//EN
METHOD:PUBLISH
X-PUBLISHED-TTL:P3D
REFRESH-INTERVAL:P3D
CALSCALE:GREGORIAN
BEGIN:VEVENT
DTSTART:20140214T230000Z
DTEND:20140215T020000Z
X-MICROSOFT-CDO-ALLDAYEVENT:FALSE
SUMMARY:Valentine's at Crane Creek Vineyards
DESCRIPTION:SPEND VALENTINE'S at CRANE CREEK VINEYARDS\n\nFebruary 14\, 2014\n\nDinner from 6 p.m - 9 p.m.\n\n\n\nWe are hosting a Valentine's Dinner complete with wine\, dinner\, and live music performed by Austin Adams.\n\nDinner will be from 6pm-9pm.\n\n$60 per guest (does not include tax or gratuity).\n\nSpace is limited.
X-ALT-DESC;FMTTYPE=text/html:<em><strong>SPEND VALENTINE&#39\;S&nbsp\;at&nbsp\;CRANE CREEK VINEYARDS</strong></em><br />\nFebruary 14\, 2014<br />\nDinner from 6 p.m - 9 p.m.<br />\n<br />\nWe are hosting a Valentine&#39\;s Dinner complete with wine\, dinner\, and live music performed by Austin Adams.<br />\nDinner will be from 6pm-9pm.<br />\n$60 per guest (does not include tax or gratuity).<br />\nSpace is limited. 
LOCATION:Crane Creek Vineyards 916 Crane Creek Road Young Harris\, GA 30582
UID:e.256.22070
SEQUENCE:3
DTSTAMP:20260424T165209Z
URL:https://members.visitblairsvillega.com/events/details/valentine-s-at-crane-creek-vineyards-02-14-2014-22070
END:VEVENT

END:VCALENDAR
