BEGIN:VCALENDAR
VERSION:2.0
PRODID:-//ChamberMaster//Event Calendar 2.0//EN
METHOD:PUBLISH
X-PUBLISHED-TTL:P3D
REFRESH-INTERVAL:P3D
CALSCALE:GREGORIAN
BEGIN:VEVENT
DTSTART:20140214T170000Z
DTEND:20140214T220000Z
X-MICROSOFT-CDO-ALLDAYEVENT:FALSE
SUMMARY:Valentine's Day at Hightower Creek Vineyards\, LLC
DESCRIPTION:Happy Valentine's Day.\n\nCome by today for complimentary chocolates and roses for the ladies with the purchase of a wine tasting or a glass of wine.
X-ALT-DESC;FMTTYPE=text/html:<strong>Happy Valentine&#39\;s Day.<br />\nCome by today for complimentary chocolates and roses for the ladies with the purchase of a wine tasting or a glass of wine.</strong>
LOCATION:7150 Canaan Drive Hiawassee\, GA 30546
UID:e.256.22947
SEQUENCE:3
DTSTAMP:20260424T165337Z
URL:https://members.visitblairsvillega.com/events/details/valentine-s-day-at-hightower-creek-vineyards-llc-02-14-2014-22947
END:VEVENT

END:VCALENDAR
