BEGIN:VCALENDAR
VERSION:2.0
PRODID:-//ChamberMaster//Event Calendar 2.0//EN
METHOD:PUBLISH
X-PUBLISHED-TTL:P3D
REFRESH-INTERVAL:P3D
CALSCALE:GREGORIAN
BEGIN:VEVENT
DTSTART:20160213T170000Z
DTEND:20160213T220000Z
X-MICROSOFT-CDO-ALLDAYEVENT:FALSE
SUMMARY:Valentine's Day Celebration at Hightower Creek Vineyards
DESCRIPTION:Bring your sweetheart to enjoy some Italian Love Soup and chocolates along with a rose to celebrate this "lovely" day! Saturday 2/13/2016 and Sunday 2/14/2016. Cost is $10.00 and includes a glass of wine!
X-ALT-DESC;FMTTYPE=text/html:<span style="font-size:14px"><span style="color:rgb(0\, 0\, 0)\; font-family:cambria">Bring your sweetheart to enjoy some Italian Love Soup and chocolates along with a rose to celebrate this &ldquo\;lovely&rdquo\; day! Saturday 2/13/2016 and Sunday 2/14/2016. Cost is $10.00 and includes a glass of wine!</span></span>
LOCATION:7150 Canaan Drive Hiawassee\, GA 30546
UID:e.256.49324
SEQUENCE:3
DTSTAMP:20260421T040436Z
URL:https://members.visitblairsvillega.com/events/details/valentine-s-day-celebration-at-hightower-creek-vineyards-02-13-2016-49324
END:VEVENT

END:VCALENDAR
