BEGIN:VCALENDAR
VERSION:2.0
PRODID:-//ChamberMaster//Event Calendar 2.0//EN
METHOD:PUBLISH
X-PUBLISHED-TTL:P3D
REFRESH-INTERVAL:P3D
CALSCALE:GREGORIAN
BEGIN:VEVENT
DTSTART:20160214T190000Z
DTEND:20160214T210000Z
X-MICROSOFT-CDO-ALLDAYEVENT:FALSE
SUMMARY:Valentine's Day Concert
DESCRIPTION:Come to this incredible musical experience on Valentine's Day. Produced & directed by Mr. Cody Killian.\n\nThis romantic concert is sponsored by: Habitat for Humanity Towns/Union Counties.
X-ALT-DESC;FMTTYPE=text/html:Come to this incredible musical experience on Valentine&#39\;s Day. Produced &amp\; directed by Mr. Cody Killian.<br />\nThis romantic concert is sponsored by: Habitat for Humanity Towns/Union Counties.
LOCATION:First United Methodist Church Auditorium
UID:e.256.49461
SEQUENCE:3
DTSTAMP:20260421T040111Z
URL:https://members.visitblairsvillega.com/events/details/valentine-s-day-concert-02-14-2016-49461
END:VEVENT

END:VCALENDAR
