BEGIN:VCALENDAR
VERSION:2.0
PRODID:-//ChamberMaster//Event Calendar 2.0//EN
METHOD:PUBLISH
X-PUBLISHED-TTL:P3D
REFRESH-INTERVAL:P3D
CALSCALE:GREGORIAN
BEGIN:VEVENT
DTSTART:20160217T220000Z
DTEND:20160217T233000Z
X-MICROSOFT-CDO-ALLDAYEVENT:FALSE
SUMMARY:Valentine's Dinner - Celebration of the Women of Union County
DESCRIPTION:The United Methodist Men at First United Methodist Church of Union County are hoping everyone in the community will join them for a Valentine's dinner. The menu sounds divine! Smoked pork tenderloin\, rosemary red potatoes\, green beans with almonds\, dinner rolls\, strawberry shortcake with whipped cream\, coffee & tea.
X-ALT-DESC;FMTTYPE=text/html:The United Methodist Men at First United Methodist Church of Union County are hoping everyone in the community will join them for a Valentine&#39\;s dinner. The menu sounds divine! Smoked pork tenderloin\, rosemary red potatoes\, green beans with almonds\, dinner rolls\, strawberry shortcake with whipped cream\, coffee &amp\; tea.
LOCATION:First United Methodist Church of Union County 938 Highway 515 across from Meeks Park. This event will be in the MAC located at the far west end of the church campus.
UID:e.256.49322
SEQUENCE:3
DTSTAMP:20260421T040824Z
URL:https://members.visitblairsvillega.com/events/details/valentine-s-dinner-celebration-of-the-women-of-union-county-02-17-2016-49322
END:VEVENT

END:VCALENDAR
