BEGIN:VCALENDAR
VERSION:2.0
PRODID:-//ChamberMaster//Event Calendar 2.0//EN
METHOD:PUBLISH
X-PUBLISHED-TTL:P3D
REFRESH-INTERVAL:P3D
CALSCALE:GREGORIAN
BEGIN:VEVENT
DTSTART:20150214T170000Z
DTEND:20150214T220000Z
X-MICROSOFT-CDO-ALLDAYEVENT:FALSE
SUMMARY:Valentines Day Celebration at Hightower Creek Vineyards
DESCRIPTION:Love is in the air and we are celebrating with Italian Wedding soup\, chocolates and roses for the ladies! Cost is $10.00 and includes a glass of wine or wine tasting.
X-ALT-DESC;FMTTYPE=text/html:Love is in the air and we are celebrating with Italian Wedding soup\, chocolates and roses for the ladies! Cost is $10.00 and includes a glass of wine or wine tasting.&nbsp\;
LOCATION:7150 Canaan Drive Hiawassee\, GA 30546
UID:e.256.36916
SEQUENCE:3
DTSTAMP:20260423T230121Z
URL:https://members.visitblairsvillega.com/events/details/valentines-day-celebration-at-hightower-creek-vineyards-02-14-2015-36916
END:VEVENT

END:VCALENDAR
