BEGIN:VCALENDAR
VERSION:2.0
PRODID:-//ChamberMaster//Event Calendar 2.0//EN
METHOD:PUBLISH
X-PUBLISHED-TTL:P3D
REFRESH-INTERVAL:P3D
CALSCALE:GREGORIAN
BEGIN:VEVENT
DTSTART:20170211T050000Z
DTEND:20170211T220000Z
X-MICROSOFT-CDO-ALLDAYEVENT:FALSE
SUMMARY:Valentines Day Celebration at Hightower Creek Vineyards
DESCRIPTION:Bring your sweetheart by on Saturday\, February 11 for our Valentines Celebration! In addition to wines by the bottle or glass\, we're offering a Valentines package including Italian Wedding Soup\, Chocolates\, wine and roses for the ladies!
X-ALT-DESC;FMTTYPE=text/html:<span style="color:rgb(112\, 112\, 112)\; font-family:open sans\; font-size:14px">Bring your sweetheart by on Saturday\, February 11&nbsp\;for&nbsp\;our Valentines Celebration! In addition to wines by the bottle or glass\, we&rsquo\;re offering a Valentines package including Italian Wedding Soup\, Chocolates\, wine and roses for the ladies!</span>
LOCATION:7150 Canaan Drive Hiawassee\, GA 30546
UID:e.256.64189
SEQUENCE:3
DTSTAMP:20260420T060955Z
URL:https://members.visitblairsvillega.com/events/details/valentines-day-celebration-at-hightower-creek-vineyards-64189
END:VEVENT

END:VCALENDAR
