BEGIN:VCALENDAR
VERSION:2.0
PRODID:-//ChamberMaster//Event Calendar 2.0//EN
METHOD:PUBLISH
X-PUBLISHED-TTL:P3D
REFRESH-INTERVAL:P3D
CALSCALE:GREGORIAN
BEGIN:VEVENT
DTSTART:20140214T220000Z
DTEND:20140215T020000Z
X-MICROSOFT-CDO-ALLDAYEVENT:FALSE
SUMMARY:Valentines Day Sweetheart Dinner
DESCRIPTION:Valentines Day Sweetheart Dinner for Two!! \n\n	\n\n	Choice of Two Glasses of Wine\n\n	\n\n	Appetizer:\n\n	Spinach Dip with French Bread\n\n	\n\n	Entr e:\n\n	Prime Rib\n\n	served with Baked Potatoe & Saut ed Vegetables\n\n	\n\n	Salmon Filet with Bourbon Glaze\n\n	served with Rice Pilaf & Asparagus\n\n	\n\n	Dessert: Choose One\n\n	Strawberry Cheesecake\n\n	Chocolate Mousse Cake\n\n	\n\n	(Individual Prices Available)
X-ALT-DESC;FMTTYPE=text/html:<div style="text-align: center\;">\n	<span style="color: rgb(255\, 0\, 0)\;">Valentines Day Sweetheart Dinner for Two!! </span><br />\n	<br />\n	Choice of Two Glasses of Wine<br />\n	<br />\n	Appetizer:<br />\n	Spinach Dip with French Bread<br />\n	<br />\n	Entr&eacute\;e:<br />\n	Prime Rib<br />\n	served with Baked Potatoe&nbsp\;&amp\; Saut&eacute\;ed Vegetables<br />\n	<br />\n	Salmon Filet with Bourbon Glaze<br />\n	served with Rice Pilaf &amp\; Asparagus<br />\n	<br />\n	Dessert: Choose One<br />\n	Strawberry Cheesecake<br />\n	Chocolate Mousse Cake<br />\n	<br />\n	(Individual Prices Available)<br />\n	<br />\n	&nbsp\;</div>\n
LOCATION:The View Grill Union County Community Center 129 Union County Rec Rd Blairsville
UID:e.256.22940
SEQUENCE:3
DTSTAMP:20260424T165046Z
URL:https://members.visitblairsvillega.com/events/details/valentines-day-sweetheart-dinner-02-14-2014-22940
END:VEVENT

END:VCALENDAR
