BEGIN:VCALENDAR
VERSION:2.0
PRODID:-//ChamberMaster//Event Calendar 2.0//EN
METHOD:PUBLISH
X-PUBLISHED-TTL:P3D
REFRESH-INTERVAL:P3D
CALSCALE:GREGORIAN
BEGIN:VEVENT
DTSTART:20140214T220000Z
DTEND:20140215T030000Z
X-MICROSOFT-CDO-ALLDAYEVENT:FALSE
SUMMARY:Valentines Dinner
DESCRIPTION:Join us on February 14th as our Executive Chef presents our Annual Valentines Dining Special.\n\nReservations are strongly recommended and can be made by calling 706-379-4617. A copy of the menu can be found on our web site at www.brasstownvalley.com A Valentines Romance Room Package is also available at the resort and includes\, room\, Champagne\, Chocolates\, a dinner credit and breakfast the next morning\, contact 1-800-201-3205 for more details
X-ALT-DESC;FMTTYPE=text/html:Join us on February 14th as our Executive Chef presents our Annual Valentines Dining Special.<br />\nReservations are strongly recommended and can be made by calling 706-379-4617. A copy of the menu can be found on our web site at www.brasstownvalley.com A Valentines Romance Room Package is also available at the resort and includes\, room\, Champagne\, Chocolates\, a dinner credit and breakfast the next morning\, contact 1-800-201-3205 for more details<br type="_moz" />\n
LOCATION:Brasstown Valley Resort Young Harris GA
UID:e.256.22880
SEQUENCE:3
DTSTAMP:20260424T165005Z
URL:https://members.visitblairsvillega.com/events/details/valentines-dinner-02-14-2014-22880
END:VEVENT

END:VCALENDAR
