BEGIN:VCALENDAR
VERSION:2.0
PRODID:-//ChamberMaster//Event Calendar 2.0//EN
METHOD:PUBLISH
X-PUBLISHED-TTL:P3D
REFRESH-INTERVAL:P3D
CALSCALE:GREGORIAN
BEGIN:VEVENT
DTSTART:20150214T220000Z
DTEND:20150215T020000Z
X-MICROSOFT-CDO-ALLDAYEVENT:FALSE
SUMMARY:Valentines Dinner
DESCRIPTION:The Dining Room at Brasstown Valley Resort & Spa in Young Harris will be offering their Prime Rib Buffet and a special menu from our culinary team. A copy of the menu can be found on our web site at www.brasstownvalley.com Reservations are strongly recommended and can be made by calling : 706-379-4617
X-ALT-DESC;FMTTYPE=text/html:The Dining Room at Brasstown Valley Resort &amp\; Spa in Young Harris will be offering their Prime Rib Buffet and a special menu from our culinary team. A copy of the menu can be found on our web site at www.brasstownvalley.com Reservations are strongly recommended and can be made by calling : 706-379-4617
LOCATION:Brasstown Valley Resort & Spa\, Young Harris GA
UID:e.256.36662
SEQUENCE:3
DTSTAMP:20260423T224710Z
URL:https://members.visitblairsvillega.com/events/details/valentines-dinner-02-14-2015-36662
END:VEVENT

END:VCALENDAR
