BEGIN:VCALENDAR
VERSION:2.0
PRODID:-//ChamberMaster//Event Calendar 2.0//EN
METHOD:PUBLISH
X-PUBLISHED-TTL:P3D
REFRESH-INTERVAL:P3D
CALSCALE:GREGORIAN
BEGIN:VEVENT
DTSTART:20140909T213000Z
DTEND:20140909T233000Z
X-MICROSOFT-CDO-ALLDAYEVENT:FALSE
SUMMARY:Valerie K. Polding CPA Business After Hours at Towns County Chamber Office
DESCRIPTION:"Fishin" for Business\n\n\n\nIncrease your Net assets!\n\nWatch your Bottom line!\n\nGet Hooked on the Chamber!\n\nDon't get Caught unprepared!\n\n\n\nHave Fun.\n\nBest fishing hat wins a prize.\n\nBiggest fish wins a prize.
X-ALT-DESC;FMTTYPE=text/html:<div style="text-align: center\;"><span style="font-size: 14px\;"><strong>&quot\;Fishin&quot\; for Business</strong></span><br />\n<br />\nIncrease your Net assets!<br />\nWatch your Bottom line!<br />\nGet Hooked on the Chamber!<br />\nDon&#39\;t get Caught unprepared!<br />\n<br />\nHave Fun.<br />\nBest fishing hat wins a prize.<br />\nBiggest fish wins a prize.</div>\n
LOCATION:Towns County Chamber Office Jack Dayton Circle Young Harris On the Pond
UID:e.256.26148
SEQUENCE:3
DTSTAMP:20260424T063838Z
URL:https://members.visitblairsvillega.com/events/details/valerie-k-polding-cpa-business-after-hours-at-towns-county-chamber-office-09-09-2014-26148
END:VEVENT

END:VCALENDAR
