BEGIN:VCALENDAR
VERSION:2.0
PRODID:-//ChamberMaster//Event Calendar 2.0//EN
METHOD:PUBLISH
X-PUBLISHED-TTL:P3D
REFRESH-INTERVAL:P3D
CALSCALE:GREGORIAN
BEGIN:VEVENT
DTSTART:20160401T140000Z
DTEND:20160401T220000Z
X-MICROSOFT-CDO-ALLDAYEVENT:FALSE
SUMMARY:Valley River Arts Guild Exhibit
DESCRIPTION:Celebrate the regional talent of artists from the Valley River Arts Guild in Murphy\, NC.  This exhibit will include unforgettable 2D and 3D works from several talented artists and will be on display inside the Art Center's Richard Low Evans Gallery.   Opening reception will be April 8 from 5-7pm.
X-ALT-DESC;FMTTYPE=text/html:<span style="font-size: 12pt\;"><span style="font-family: adobe caslon pro bold\,serif\;">Celebrate the regional talent of artists from the Valley River Arts Guild in Murphy\, NC. &nbsp\;This exhibit will include unforgettable 2D and 3D works from several talented artists and will be on display inside the Art Center&rsquo\;s Richard Low Evans Gallery.&nbsp\; </span></span><span style="font-size: 12pt\;"><span style="font-family: adobe caslon pro bold\,serif\;"><span style="color: black\;">&nbsp\;Opening reception will be April 8 from 5-7pm. </span></span></span><br />\n&nbsp\;
LOCATION:The Art Center (Blue Ridge Mountains Arts Association)
UID:e.256.50659
SEQUENCE:3
DTSTAMP:20260421T002142Z
URL:https://members.visitblairsvillega.com/events/details/valley-river-arts-guild-exhibit-04-01-2016-50659
END:VEVENT

END:VCALENDAR
