BEGIN:VCALENDAR
VERSION:2.0
PRODID:-//ChamberMaster//Event Calendar 2.0//EN
METHOD:PUBLISH
X-PUBLISHED-TTL:P3D
REFRESH-INTERVAL:P3D
CALSCALE:GREGORIAN
BEGIN:VEVENT
DTSTART:20150514T163000Z
DTEND:20150514T173000Z
X-MICROSOFT-CDO-ALLDAYEVENT:FALSE
SUMMARY:Vertical Gardening Class
DESCRIPTION:Come learn how to grow your own natural food in a 2-foot space growing over 200 plants!  Learn what to put in the soil\, safe ways to handle pests\, and how to make the garden out of inexpensive material.
X-ALT-DESC;FMTTYPE=text/html:Come learn how to grow your own natural food in a 2-foot space growing over 200 plants!&nbsp\; Learn what to put in the soil\, safe ways to handle pests\, and how to make the garden out of inexpensive material.
LOCATION:215 Blue Ridge Street
UID:e.256.40018
SEQUENCE:3
DTSTAMP:20260423T182038Z
URL:https://members.visitblairsvillega.com/events/details/vertical-gardening-class-05-14-2015-40018
END:VEVENT

END:VCALENDAR
