BEGIN:VCALENDAR
VERSION:2.0
PRODID:-//ChamberMaster//Event Calendar 2.0//EN
METHOD:PUBLISH
X-PUBLISHED-TTL:P3D
REFRESH-INTERVAL:P3D
CALSCALE:GREGORIAN
BEGIN:VEVENT
DTSTART;VALUE=DATE:20141111
DTEND;VALUE=DATE:20141112
TRANSP:TRANSPARENT
X-MICROSOFT-CDO-ALLDAYEVENT:TRUE
SUMMARY:Veteran's Day @ Old Union Golf Course
DESCRIPTION:VETERANS DAY SPECIAL  Old Union salutes our Veterans and has a fantastic deal for those who are serving or have served! Come play with us on Tuesday November 11 and simply show us your id and play for only $11. Valid for active duty or retired service members! Come out and play on your day!! Call Proshop at 706-745-4653 to reserve your tee time!
X-ALT-DESC;FMTTYPE=text/html:VETERANS DAY SPECIAL&nbsp\; Old Union salutes our Veterans and has a fantastic deal for those who are serving or have served! Come play with us on Tuesday November 11 and simply show us your id and play for only $11. Valid for active duty or retired service members! Come out and play on your day!! Call Proshop at 706-745-4653 to reserve your tee time!
LOCATION:Old Union Golf Course U S Hwy 19/129N Blairsville\, GA
UID:e.256.27835
SEQUENCE:3
DTSTAMP:20260424T033539Z
URL:https://members.visitblairsvillega.com/events/details/veteran-s-day-old-union-golf-course-11-11-2014-27835
END:VEVENT

END:VCALENDAR
