BEGIN:VCALENDAR
VERSION:2.0
PRODID:-//ChamberMaster//Event Calendar 2.0//EN
METHOD:PUBLISH
X-PUBLISHED-TTL:P3D
REFRESH-INTERVAL:P3D
CALSCALE:GREGORIAN
BEGIN:VEVENT
DTSTART:20151111T163000Z
DTEND:20151111T233000Z
X-MICROSOFT-CDO-ALLDAYEVENT:FALSE
SUMMARY:Veteran's Day Wine Tour with Elite Escpes Limo Bus
DESCRIPTION:Have the holiday off? Come relax and spend a spectacular day at our four AVA vineyards! Your tour includes transportation in our beautiful limo bus\, the tastings at the wineries\, lunch\, and a fantastic experience. In honor of Veteran's Day\, we are offering 11% off the regular price of the tour and giving the proceeds to our local Veteran's Organization! So come enjoy and feel great about giving back to our heroes in need!\n\nSign up today as space is limited.
X-ALT-DESC;FMTTYPE=text/html:Have the holiday off? Come relax and spend a spectacular day at our four AVA vineyards! Your tour includes transportation in our beautiful limo bus\,&nbsp\;the&nbsp\;tastings at the wineries\, lunch\, and a fantastic experience. In honor of Veteran&#39\;s Day\, we are offering 11% off the regular price of the tour and giving the proceeds to our local Veteran&#39\;s Organization! So come enjoy and feel great about giving back to our heroes in need!<br />\nSign up today as space is limited.
LOCATION:Blairsville Park & Ride Hwy 515 & 129
UID:e.256.44409
SEQUENCE:3
DTSTAMP:20260423T085822Z
URL:https://members.visitblairsvillega.com/events/details/veteran-s-day-wine-tour-with-elite-escpes-limo-bus-11-11-2015-44409
END:VEVENT

END:VCALENDAR
