BEGIN:VCALENDAR
VERSION:2.0
PRODID:-//ChamberMaster//Event Calendar 2.0//EN
METHOD:PUBLISH
X-PUBLISHED-TTL:P3D
REFRESH-INTERVAL:P3D
CALSCALE:GREGORIAN
BEGIN:VEVENT
DTSTART:20140509T130000Z
DTEND:20140509T160000Z
X-MICROSOFT-CDO-ALLDAYEVENT:FALSE
SUMMARY:Veterans Appreciation Fishing Rodeo
DESCRIPTION:The Veterans Appreciation Fishing Rodeo is a free event open to all U.S. Military Veterans in honor of their service and will be held rain or shine. Bring your own fishing gear and bait and join us for an exciting morning of fishing Rock Creek for trout stocked especially for this event. Free lunch will be served.
X-ALT-DESC;FMTTYPE=text/html:The Veterans Appreciation Fishing Rodeo is a free event open to all U.S. Military Veterans in honor of their service and will be held rain or shine. Bring your own fishing gear and bait and join us for an exciting morning of fishing Rock Creek for trout stocked especially for this event. Free lunch will be served.
LOCATION:Chattahoochee Forest National Fish Hatchery located on Rock Creek Road off of GA Hwy 60 near Suches\, GA. Please call for directions 706-838-4723.
UID:e.256.20580
SEQUENCE:3
DTSTAMP:20260424T122602Z
URL:https://members.visitblairsvillega.com/events/details/veterans-appreciation-fishing-rodeo-05-09-2014-20580
END:VEVENT

END:VCALENDAR
