BEGIN:VCALENDAR
VERSION:2.0
PRODID:-//ChamberMaster//Event Calendar 2.0//EN
METHOD:PUBLISH
X-PUBLISHED-TTL:P3D
REFRESH-INTERVAL:P3D
CALSCALE:GREGORIAN
BEGIN:VEVENT
DTSTART:20170505T130000Z
DTEND:20170505T160000Z
X-MICROSOFT-CDO-ALLDAYEVENT:FALSE
SUMMARY:Veterans Appreciation Fishing Rodeo
DESCRIPTION:Free event open to all U.S. military veterans and active duty service men and women. Bring your own fishing gear and bait - rain or shine   and enjoy fishing for beautiful rainbow trout. Free lunch.
X-ALT-DESC;FMTTYPE=text/html:Free event open to all U.S. military veterans and active duty service men and women. Bring your own fishing gear and bait - rain or shine &ndash\; and enjoy fishing for beautiful rainbow trout. Free lunch.
LOCATION:Chattahoochee Forest National Fish Hatchery located in Fannin County on Rock Creek Road near Suches\, GA.
UID:e.256.69154
SEQUENCE:3
DTSTAMP:20260420T020610Z
URL:https://members.visitblairsvillega.com/events/details/veterans-appreciation-fishing-rodeo-69154
END:VEVENT

END:VCALENDAR
