BEGIN:VCALENDAR
VERSION:2.0
PRODID:-//ChamberMaster//Event Calendar 2.0//EN
METHOD:PUBLISH
X-PUBLISHED-TTL:P3D
REFRESH-INTERVAL:P3D
CALSCALE:GREGORIAN
BEGIN:VEVENT
DTSTART:20161111T160000Z
DTEND:20161111T170000Z
X-MICROSOFT-CDO-ALLDAYEVENT:FALSE
SUMMARY:Veterans Luncheon
DESCRIPTION:First United Methodist Church Veterans Luncheon will begin with prayer\, the Pledge of Allegiance\, and The Ceremony of the Missing Man Table performed by the North Georgia Honor Guard. \n\n\n\nMrs. Barbara Honaker will be the guest speaker on the role of family and local Veterans organizations play after a veteran returns home to civilian life. The Union County High School Ensemble Choir will perform. The American Legion Auxiliary will have raffle tickets for a Hummingbird Stained Glass.\n\n\n\nJim's Smokin' Que is providing the lunch.
X-ALT-DESC;FMTTYPE=text/html:First United Methodist Church Veterans Luncheon will begin with prayer\, the Pledge of Allegiance\, and The Ceremony of the Missing Man Table performed by the North Georgia Honor Guard.&nbsp\;<br />\n<br />\nMrs. Barbara Honaker will be the guest speaker on the role of family and local Veterans organizations play after a veteran returns home to civilian life. The Union County High School Ensemble Choir will perform. The American Legion Auxiliary will have raffle tickets for a Hummingbird Stained Glass.<br />\n<br />\nJim&#39\;s Smokin&#39\; Que is providing the lunch.&nbsp\;
LOCATION:First United Methodist Church
UID:e.256.59741
SEQUENCE:3
DTSTAMP:20260420T111620Z
URL:https://members.visitblairsvillega.com/events/details/veterans-luncheon-59741
END:VEVENT

END:VCALENDAR
