BEGIN:VCALENDAR
VERSION:2.0
PRODID:-//ChamberMaster//Event Calendar 2.0//EN
METHOD:PUBLISH
X-PUBLISHED-TTL:P3D
REFRESH-INTERVAL:P3D
CALSCALE:GREGORIAN
BEGIN:VEVENT
DTSTART:20161227T233000Z
DTEND:20161228T010000Z
X-MICROSOFT-CDO-ALLDAYEVENT:FALSE
SUMMARY:VFW Monthly Meeting
DESCRIPTION:The 4th Tuesday VFW meets in the Veterans Center at 6:30pm.
X-ALT-DESC;FMTTYPE=text/html:<font color="#000000" face="Times New Roman">The 4th Tuesday VFW<font color="#000000" face="Times New Roman"> meets</font>&nbsp\;in the Veterans Center at 6:30pm.</font>
LOCATION:Veterans Building (old Chamber of Commerce) 78 Blue Ridge Hwy Blairsville
UID:e.256.40622
SEQUENCE:3
DTSTAMP:20260420T112249Z
URL:https://members.visitblairsvillega.com/events/details/vfw-monthly-meeting-12-27-2016-40622
END:VEVENT

END:VCALENDAR
