BEGIN:VCALENDAR
VERSION:2.0
PRODID:-//ChamberMaster//Event Calendar 2.0//EN
METHOD:PUBLISH
X-PUBLISHED-TTL:P3D
REFRESH-INTERVAL:P3D
CALSCALE:GREGORIAN
BEGIN:VEVENT
DTSTART:20150919T140000Z
DTEND:20150919T190000Z
X-MICROSOFT-CDO-ALLDAYEVENT:FALSE
SUMMARY:Victoria's Antique Mall's Yard Sale
DESCRIPTION:Victoria's Antique Mall is having a huge yard sale on September 19th from 10am until 3pm. We will have furniture\, antiques\, clothing\, jewelry\, house wares\, fall decore\, and more.
X-ALT-DESC;FMTTYPE=text/html:Victoria&#39\;s Antique Mall is having a huge yard sale on September 19th from 10am until 3pm. We will have furniture\, antiques\, clothing\, jewelry\, house wares\, fall decore\, and more.<br />\n&nbsp\;
LOCATION:3196 Hwy 515 E. Located next to Blairsville Cinema.
UID:e.256.44192
SEQUENCE:3
DTSTAMP:20260423T134443Z
URL:https://members.visitblairsvillega.com/events/details/victoria-s-antique-mall-s-yard-sale-09-19-2015-44192
END:VEVENT

END:VCALENDAR
