BEGIN:VCALENDAR
VERSION:2.0
PRODID:-//ChamberMaster//Event Calendar 2.0//EN
METHOD:PUBLISH
X-PUBLISHED-TTL:P3D
REFRESH-INTERVAL:P3D
CALSCALE:GREGORIAN
BEGIN:VEVENT
DTSTART;VALUE=DATE:20151010
DTEND;VALUE=DATE:20151011
TRANSP:TRANSPARENT
X-MICROSOFT-CDO-ALLDAYEVENT:TRUE
SUMMARY:Vietnam Moving Wall
DESCRIPTION:Vietnam Moving Wall comes to Blairsville
X-ALT-DESC;FMTTYPE=text/html:Vietnam Moving Wall comes to Blairsville
LOCATION:
UID:e.256.33665
SEQUENCE:3
DTSTAMP:20260423T102631Z
URL:https://members.visitblairsvillega.com/events/details/vietnam-moving-wall-10-10-2015-33665
END:VEVENT

END:VCALENDAR
