BEGIN:VCALENDAR
VERSION:2.0
PRODID:-//ChamberMaster//Event Calendar 2.0//EN
METHOD:PUBLISH
X-PUBLISHED-TTL:P3D
REFRESH-INTERVAL:P3D
CALSCALE:GREGORIAN
BEGIN:VEVENT
DTSTART:20160514T170000Z
DTEND:20160514T190000Z
X-MICROSOFT-CDO-ALLDAYEVENT:FALSE
SUMMARY:Vietnam Veterans of America Hosting Agent Orange Seminar
DESCRIPTION:Finally\, the VA is beginning to admit and recognize a limited number of health issues in children of veterans exposed to Agent Orange in the Vietnam War.  The VA acknowledges spina bifida in children of veterans to be a result of their parents' exposure to Agent Orange.  Eighteen other serious birth defects are considered by the VA to be a consequence of Agent Orange only if the mother was exposed to it. In addition to identifying conditions now covered by the VA\, the discussion will include how we can assist current efforts to support bills in Congress that will advance research on this important issue.  The Vietnam War ended in 1975\, but the VA did not recognize any Agent Orange effects until the 1990's   we cannot move that slowly this time.
X-ALT-DESC;FMTTYPE=text/html:<span style="font-size: medium\;"><span style="font-family: arial rounded mt bold\,sans-serif\;"><span style="color: black\;">Finally\, the VA is beginning to admit and recognize a limited number of health issues in children of veterans exposed to Agent Orange in the Vietnam War.&nbsp\; The VA acknowledges spina bifida in children of veterans to be a result of their parents&rsquo\; exposure to Agent Orange.&nbsp\; Eighteen other serious birth defects are considered by the VA to be a consequence of Agent Orange only if the mother was exposed to it. In addition to identifying conditions now covered by the VA\, the discussion will include how we can assist current efforts to support bills in Congress that will advance research on this important issue.&nbsp\; The Vietnam War ended in 1975\, but the VA did not recognize any Agent Orange effects until the 1990&rsquo\;s &ndash\; we cannot move that slowly this time.</span></span></span><br />\n<br />\n&nbsp\;
LOCATION:Hoag Auditorium on the University of North Georgia Dahlonega campus
UID:e.256.50554
SEQUENCE:3
DTSTAMP:20260420T223421Z
URL:https://members.visitblairsvillega.com/events/details/vietnam-veterans-of-america-hosting-agent-orange-seminar-05-14-2016-50554
END:VEVENT

END:VCALENDAR
