BEGIN:VCALENDAR
VERSION:2.0
PRODID:-//ChamberMaster//Event Calendar 2.0//EN
METHOD:PUBLISH
X-PUBLISHED-TTL:P3D
REFRESH-INTERVAL:P3D
CALSCALE:GREGORIAN
BEGIN:VEVENT
DTSTART:20170704T190000Z
DTEND:20170705T030000Z
X-MICROSOFT-CDO-ALLDAYEVENT:FALSE
SUMMARY:View the Fireworks from North Georgia Technical College-Blairsville Campus
DESCRIPTION:Enjoy viewing the fireworks at a great location!  This year there will be food vendors on site!  Allegheny Masonic Lodge will be selling Hamburgers and Hot dogs\, drinks and other items\, Cooks Country Kitchen will be selling BBQ\, Mozzarella Cheese Sticks\, Brownie's and Ice Cream\, drinks and much more! The Sweet Spot will be selling shaved ice!  Come hungry and be ready to kick back\, relax\, and enjoy some great food and a great fireworks show!
X-ALT-DESC;FMTTYPE=text/html:Enjoy viewing the fireworks at a great location!&nbsp\; This year there will be food vendors on site!&nbsp\; Allegheny Masonic Lodge will be selling Hamburgers and Hot dogs\, drinks and other items\, Cooks Country Kitchen will be selling BBQ\, Mozzarella Cheese Sticks\, Brownie&#39\;s and Ice Cream\, drinks and much more! The Sweet Spot will be selling shaved ice!&nbsp\; Come hungry and be ready to kick back\, relax\, and enjoy some great food and a great fireworks show!
LOCATION:North Georgia Technical College Blairsville Campus 121 Meeks Park Road Blairsville\, GA 30512
UID:e.256.75289
SEQUENCE:3
DTSTAMP:20260419T230141Z
URL:https://members.visitblairsvillega.com/events/details/view-the-fireworks-from-north-georgia-technical-college-blairsville-campus-75289
END:VEVENT

END:VCALENDAR
