BEGIN:VCALENDAR
VERSION:2.0
PRODID:-//ChamberMaster//Event Calendar 2.0//EN
METHOD:PUBLISH
X-PUBLISHED-TTL:P3D
REFRESH-INTERVAL:P3D
CALSCALE:GREGORIAN
BEGIN:VEVENT
DTSTART:20170821T140000Z
DTEND:20170822T020000Z
X-MICROSOFT-CDO-ALLDAYEVENT:FALSE
SUMMARY:Viewing at The Lodge
DESCRIPTION:View the eclipse on our lawn or porch. The restaurant is open for lunch & dinner. \n\n\n\nAbout Copperhead Lodge: Copperhead Lodge is the premier vacation destination and special events venue in the NE GA Mountains. Restaurant\, Live Music\, Special Events and Banquet Space. Restaurant serving "Comfort Food with Attitude"
X-ALT-DESC;FMTTYPE=text/html:View the eclipse on our lawn or porch. The restaurant is open for lunch &amp\; dinner.&nbsp\;<br />\n<br />\nAbout Copperhead Lodge:&nbsp\;<span style="color: rgb(29\, 33\, 41)\; font-family: Helvetica\, Arial\, sans-serif\; font-size: 12px\;">Copperhead Lodge is the premier vacation destination and special events venue in the NE GA Mountains. Restaurant\, Live Music\, Special Events and Banquet Space. Restaurant serving &quot\;Comfort Food with Attitude&quot\;</span>
LOCATION:Copperhead Lodge 171 Copperhead Pkwy
UID:e.256.75604
SEQUENCE:3
DTSTAMP:20260419T194530Z
URL:https://members.visitblairsvillega.com/events/details/viewing-at-the-lodge-75604
END:VEVENT

END:VCALENDAR
