BEGIN:VCALENDAR
VERSION:2.0
PRODID:-//ChamberMaster//Event Calendar 2.0//EN
METHOD:PUBLISH
X-PUBLISHED-TTL:P3D
REFRESH-INTERVAL:P3D
CALSCALE:GREGORIAN
BEGIN:VEVENT
DTSTART:20170821T150000Z
DTEND:20170821T200000Z
X-MICROSOFT-CDO-ALLDAYEVENT:FALSE
SUMMARY:Viewing @ the IP
DESCRIPTION:Enjoy a clear unobstructed view of the sky surrounded by stunning mountains. The Viewing at the IP will feature plenty of parking\, food trucks\, music and a perfect location to enjoy this once in a lifetime event! Bring your chairs/blankets. \n\n\n\nSponsored by the Union County Rotary Club and the Blairsville-Union County Chamber of Commerce.\n\n\n\nNo alcohol allowed. No weapons allowed. Critical to wear safety glasses during partial phases of eclipse.
X-ALT-DESC;FMTTYPE=text/html:Enjoy a clear unobstructed view of the sky surrounded by stunning mountains. The Viewing at the IP will feature plenty of parking\, food trucks\, music and a perfect location to enjoy this once in a lifetime event!&nbsp\;Bring your chairs/blankets.&nbsp\;<br />\n<br />\nSponsored by the Union County Rotary Club and the Blairsville-Union County Chamber of Commerce.<br />\n<br />\nNo alcohol allowed. No weapons allowed. Critical to wear safety glasses during partial phases of eclipse.<br />\n&nbsp\;
LOCATION:Blairsville Industrial Park Airport Industrial Road\, Near the Blairsville Airport Directions: From Hwy 515/76 traveling west (towards Blairsville) - pass the red light at Nelson Tractor/Walmart (Kiutuestia Creek road). In approx. 2 miles\, turn right on Airport Industrial Road. Pass Mountain Gymnastics\, viewing party on right. Use this address for your GPS: 326 Airport Industrial Drive Blairsville\, GA 30512
UID:e.256.75600
SEQUENCE:3
DTSTAMP:20260419T210142Z
URL:https://members.visitblairsvillega.com/events/details/viewing-the-ip-75600
END:VEVENT

END:VCALENDAR
