BEGIN:VCALENDAR
VERSION:2.0
PRODID:-//ChamberMaster//Event Calendar 2.0//EN
METHOD:PUBLISH
X-PUBLISHED-TTL:P3D
REFRESH-INTERVAL:P3D
CALSCALE:GREGORIAN
BEGIN:VEVENT
DTSTART:20150814T233000Z
DTEND:20150815T020000Z
X-MICROSOFT-CDO-ALLDAYEVENT:FALSE
SUMMARY:Village People
DESCRIPTION:Recipients of a Star on the Hollywood Walk of Fame\, the one-of-a-kind Village People is synonymous with dance music. Their impact on music has earned them the title "Kings of Disco" and they have sold more than 100 million recordings worldwide. These six talented men take all the musical hits of their spectacular career and combine them with energetic choreography and outrageous fun. Their music provides entertainment for all and will have you singing & dancing the entire night!
X-ALT-DESC;FMTTYPE=text/html:Recipients of a Star on the Hollywood Walk of Fame\, the one-of-a-kind Village People is synonymous with dance music. Their impact on music has earned them the title &quot\;Kings of Disco&quot\; and they have sold more than 100 million recordings worldwide. These six talented men take all the musical hits of their spectacular career and combine them with energetic choreography and outrageous fun. Their music provides entertainment for all and will have you singing &amp\; dancing the entire night!
LOCATION:Smoky Mountain Center for the Performing Arts 1028 Georgia Road Franklin\, NC 28734
UID:e.256.41282
SEQUENCE:3
DTSTAMP:20260423T133936Z
URL:https://members.visitblairsvillega.com/events/details/village-people-08-14-2015-41282
END:VEVENT

END:VCALENDAR
